Workbook

Sheet 1A-Bilant
A1: 1A - Bilanțul
A3: Completați cu informatii din Bilanț
B5: 2023 | C5: 2024 | D5: 2025
A6: A.Active imobilizate
A7: I.Imobilizari necorporale | B7: 0 | C7: 0 | D7: 0
A8: II.Imobilizari corporale
A9: 1. Terenuri şi amenajări de terenuri | B9: 0 | C9: 0 | D9: 0
A10: 2. Construcții | B10: 0 | C10: 0 | D10: 0
A11: 3. Instalații tehnice şi mijloace de transport | B11: 0 | C11: 0 | D11: 0
A12: 4. Mobilier, aparatură birotică, echipamente de protecție a valorilor umane şi materiale şi alte active corporale | B12: 0 | C12: 0 | D12: 0
A13: 5. Investiții imobiliare | B13: 0 | C13: 0 | D13: 0
A14: 6.Active corporale de explorare şi evaluare a resurselor minerale | B14: 0 | C14: 0 | D14: 0
A15: 7.Active biologice productive | B15: 0 | C15: 0 | D15: 0
A16: 8. Instalații tehnice şi mijloace de transport în curs de aprovizionare | B16: 0 | C16: 0 | D16: 0
A17: 9. Mobilier, aparatură birotică, echipamente de protecție a valorilor umane şi materiale şi alte active corporale în curs de aprovizionare | B17: 0 | C17: 0 | D17: 0
A18: 10.Active biologice productive în curs de aprovizionare | B18: 0 | C18: 0 | D18: 0
A19: 11.Imobilizări corporale în curs de execuție | B19: 0 | C19: 0 | D19: 0
A20: 12.Investiții imobiliare în curs de execuție | B20: 0 | C20: 0 | D20: 0
... A25: 17. Ajustări pentru deprecierea investițiilor imobiliare în curs de execuție | B25: 0 | C25: 0 | D25: 0
A26: Imobilizari corporale - total | B26: =B9+B10+B11+B12+B13+B14+B15+B16+B17+B18+B19+B20+B21-B22-B23-B24-B25 -> 0 | C26: =C9+C10+C11+C12+C13+C14+C15+C16+C17+C18+C19+C20+C21-C22-C23-C24-C25 -> 0 | D26: =D9+D10+D11+D12+D13+D14+D15+D16+D17+D18+D19+D20+D21-D22-D23-D24-D25 -> 0
A27: III.Imobilizari financiare | B27: 0 | C27: 0 | D27: 0
A28: Active imobilizate - total | B28: =SUM(B7+B26+B27) -> 0 | C28: =SUM(C7+C26+C27) -> 0 | D28: =SUM(D7+D26+D27) -> 0
A29: B.Active circulante
A30: I.Stocuri:
A31: 1. Materii prime si materiale consumabile | B31: 0 | C31: 0 | D31: 0
A32: 2. Productia in curs de executie | B32: 0 | C32: 0 | D32: 0
A33: 3. Produse finite si marfuri | B33: 0 | C33: 0 | D33: 0
A34: 4. Avansuri pentru cumparari stocuri | B34: 0 | C34: 0 | D34: 0
A35: Stocuri - total | B35: =SUM(B31:B34) -> 0 | C35: =SUM(C31:C34) -> 0 | D35: =SUM(D31:D34) -> 0
A36: II.Creante | B36: 0 | C36: 0 | D36: 0
A37: III.Investitii pe termen scurt | B37: 0 | C37: 0 | D37: 0
A38: IV.Casa si conturi la banci | B38: 0 | C38: 0 | D38: 0
A39: Active circulante - total | B39: =SUM(B36:B38)+B35 -> 0 | C39: =SUM(C36:C38)+C35 -> 0 | D39: =SUM(D36:D38)+D35 -> 0
A40: C.Cheltuieli in avans | B40: =B41+B42 -> 0 | C40: =C41+C42 -> 0 | D40: =D41+D42 -> 0
A41: 1. Sume de reluat într-o perioadă de până la un an | B41: 0 | C41: 0 | D41: 0
A42: 2. Sume de reluat într-o perioadă mai mare de un an | B42: 0 | C42: 0 | D42: 0
A43: D.Datorii: sumele care trebuie platite intr-o perioada de pana la un an
A44: 1. Împrumuturi din emisiunea de obligatiuni, prezentându-se separat împrumuturile din emisiunea de obligatiuni convertibile | B44: 0 | C44: 0 | D44: 0
A45: 2. Sume datorate institutiilor de credit | B45: 0 | C45: 0 | D45: 0
A46: 3. Avansuri încasate în contul comenzilor | B46: 0 | C46: 0 | D46: 0
...

Sheet 1B-Cont_PP
A1: 1B - Contul de profit și pierdere (extras)
A3: Completați cu informații din Contul de profit și pierdere. Necesar numai pentru întreprinderile care NU sunt IMM (criteriul e) din foaia 1E).
B5: 2023 | C5: 2024 | D5: 2025
A6: Cifra de afaceri netă | B6: 0 | C6: 0 | D6: 0
A7: Venituri din exploatare – total | B7: 0 | C7: 0 | D7: 0
A8: Cheltuieli de exploatare – total | B8: 0 | C8: 0 | D8: 0
A9: Rezultatul din exploatare (profit/pierdere) | B9: =B7-B8 -> 0 | C9: =C7-C8 -> 0 | D9: =D7-D8 -> 0
A10: Ajustări de valoare privind imobilizările corporale și necorporale – cheltuieli (amortizări și deprecieri) | B10: 0 | C10: 0 | D10: 0
A11: Ajustări de valoare privind imobilizările corporale și necorporale – venituri | B11: 0 | C11: 0 | D11: 0
A12: EBITDA = Rezultatul din exploatare + amortizări și ajustări nete privind imobilizările | B12: =B9+B10-B11 -> 0 | C12: =C9+C10-C11 -> 0 | D12: =D9+D10-D11 -> 0
A13: Cheltuieli privind dobânzile | B13: 0 | C13: 0 | D13: 0
A15: Sursa: situațiile financiare anuale aprobate (formularul 20 – Contul de profit și pierdere). EBITDA se calculează conform art. 2 pct. 18 lit. e) din Regulamentul (UE) nr. 651/2014 (capacitatea de acoperire a dobânzilor).

Sheet 1E-Intreprindere_in_dificultate
A1: 1E -Verificarea încadrării solicitantului în categoria întreprinderilor în dificultate
A3: Pentru a fi eligibil, solicitantul trebuie să nu se încadreze în categoria întreprinderilor în dificultate.
A4: Verificarea de la pct. 1) se face în mod automat, în baza informațiilor introduse deja. Pct. 4) se aplică numai societăților cu asociați cu răspundere nelimitată (SNC, SCS), în locul pct. 1). Pct. 5) se aplică întreprinderilor care nu sunt IMM (întreprinderi cu capitalizare medie) și necesită completarea foii 1B. Punctele 2) și 3) de mai jos fac obiectul Declarației de eligibilitate, pe propria răspundere.
A6: O întreprindere este considerată a fi în dificultate dacă este îndeplinită cel puțin una dintre următoarele condiții*:
A8: 1) | B8: Când mai mult de jumătate din capitalul social subscris a dispărut din cauza pierderilor acumulate. (Această situație survine atunci când deducerea pierderilor acumulate din rezerve (și din toate celelalte elemente considerate în general ca făcând parte din fondurile proprii ale societății) conduce la un cuantum cumulat negativ care depășește jumătate din capitalul social subscris)
B9: i) Se calculează Rezultatul total acumulat al solicitantului
B10: Rezultatul reportat | F10: ='1A-Bilant'!D92 -> 0
B11: Rezultatul exercitiului financiar | F11: ='1A-Bilant'!D95 -> 0
B12: Rezultatul total acumulat | F12: =F10+F11 -> 0
B13: Dacă Rezultatul total acumulat este pozitiv, atunci solicitantul nu se încadrează în categoria întreprinderilor în dificultate.
B14: ii) Dacă Rezultatul total acumulat este negativ (Pierdere acumulata), atunci se calculează Pierderile de capital (Pierderea acumulata + Prime de capital + Rezerve din reevaluare + Rezerve)
B15: Capital social subscris (vărsat + nevărsat) | F15: ='1A-Bilant'!D79+'1A-Bilant'!D80 -> 0
B16: Prime de capital | F16: ='1A-Bilant'!D84 -> 0
B17: Rezerve din reevaluare | F17: ='1A-Bilant'!D85 -> 0
B18: Rezerve | F18: ='1A-Bilant'!D88 -> 0
B19: Pierdere de capital (dacă rezultatul este negativ) | F19: =F12+SUM(F16:F18) -> 0
B20: iii) Dacă valoarea rezultată este pozitivă (>=0), ori valoarea rezultată negativă reprezintă cel mult 50% din Capital social subscris si vărsat, atunci solicitantul nu se încadrează în categoria întreprinderilor în dificultate.
B21: Rezultat: | C21: =CONCATENATE("Solicitantul ",IF(F12>=0,"nu ",IF(F19>=0,"nu ", IF(ABS(F19)>F15/2,"","nu "))),"se încadrează în categoria întreprinderilor în dificultate") -> Solicitantul nu se încadrează în categoria întreprinderilor în dificultate
A23: 2) | B23: Atunci când întreprinderea face obiectul unei proceduri colective de insolvență sau îndeplinește criteriile prevăzute de legislația națională pentru inițierea unei proceduri colective de insolvență la cererea creditorilor săi.
A24: 3) | B24: Atunci când întreprinderea a primit ajutor pentru salvare și nu a rambursat încă împrumutul sau nu a încetat garanția sau a primit ajutoare pentru restructurare și face încă obiectul unui plan de restructurare.
A27: *) În conformitate cu prevederile art. 2 pct. 18 din Regulamentul (UE) nr. 651/2014 al Comisiei din 17 iunie 2014 de declarare a anumitor categorii de ajutoare compatibile cu piața internă în aplicarea articolelor 107 și 108 din tratat și ale art. 6 pct. 9 din Schema de ajutor de stat și de minimis (OMIPE nr. 3151/2023, cu modificările ulterioare).
A29: Date generale despre solicitant (de completat)
B30: Categoria solicitantului (stabilită de apel) | F30: Întreprindere cu capitalizare medie
B32: Societate în care cel puțin unii asociați au răspundere nelimitată – SNC, SCS? (DA/NU) | F32: NU
A34: 4) | B34: Pentru societățile în care cel puțin unii asociați au răspundere nelimitată: când mai mult de jumătate din capitalul propriu, așa cum reiese din contabilitate, a dispărut din cauza pierderilor acumulate.
B35: Pierderi acumulate (valoare pozitivă) | F35: =-MIN(0,F12) -> 0
B36: Capitaluri proprii înainte de deducerea pierderilor acumulate | F36: ='1A-Bilant'!D99+F35 -> 0
B37: Rezultat pct. 4): | F37: =IF(F32<>"DA","Nu se aplică",IF(AND(F30="IMM",F31="DA"),"Nu se aplică (IMM < 3 ani)",IF(F35>F36/2,"DA – în dificultate","NU"))) -> Nu se aplică
A39: 5) | B39: Numai pentru întreprinderile care nu sunt IMM: când în ultimii 2 ani (1) raportul datorii/capitaluri proprii a fost mai mare de 7,5 și (2) capacitatea de acoperire a dobânzilor, calculată pe baza EBITDA, a fost sub 1,0.
E40: 2024 | F40: 2025
B41: Datorii totale (sub un an + peste un an) | E41: ='1A-Bilant'!C52+'1A-Bilant'!C64 -> 0 | F41: ='1A-Bilant'!D52+'1A-Bilant'!D64 -> 0
B42: Capitaluri proprii – total | E42: ='1A-Bilant'!C99 -> 0 | F42: ='1A-Bilant'!D99 -> 0
B43: Raport datorii / capitaluri proprii | E43: =IF(E42<=0,"capital propriu ≤ 0",E41/E42) -> capital propriu ≤ 0 | F43: =IF(F42<=0,"capital propriu ≤ 0",F41/F42) -> capital propriu ≤ 0
B44: EBITDA (din foaia 1B) | E44: ='1B-Cont_PP'!C12 -> 0 | F44: ='1B-Cont_PP'!D12 -> 0
B45: Cheltuieli privind dobânzile (din foaia 1B) | E45: ='1B-Cont_PP'!C13 -> 0 | F45: ='1B-Cont_PP'!D13 -> 0
B46: Capacitatea de acoperire a dobânzilor (EBITDA / dobânzi) | E46: =IF(E45=0,"fără dobânzi",E44/E45) -> fără dobânzi | F46: =IF(F45=0,"fără dobânzi",F44/F45) -> fără dobânzi
B47: Ambele condiții îndeplinite în anul respectiv? | E47: =IF(AND(IF(E42<=0,TRUE(),E41/E42>7.5),IF(E45=0,FALSE(),E44/E45<1)),"DA","NU") -> NU | F47: =IF(AND(IF(F42<=0,TRUE(),F41/F42>7.5),IF(F45=0,FALSE(),F44/F45<1)),"DA","NU") -> NU
B48: Rezultat pct. 5): | E48: =IF(F30<>"Întreprindere cu capitalizare medie","Nu se aplică (IMM)",IF(AND(E47="DA",F47="DA"),"DA – în dificultate","NU")) -> NU
A50: CONCLUZIE (pct. 1, 4 și 5 – calculate; pct. 2 și 3 se declară pe propria răspundere)
B51: Pct. 1) – pierderi > 1/2 din capitalul social subscris | F51: =IF(F32="DA","Nu se aplică (vezi pct. 4)",IF(AND(F30="IMM",F31="DA"),"Nu se aplică (IMM < 3 ani)",IF(AND(F12<0,F19<0,ABS(F19)>F15/2),"DA – în dificultate","NU"))) -> NU
...
